Workbook

Sheet Computation
C1: MAHATMA GANDHI UNIVERSITY | J1: I
C2: (Please fill up the computation statement according to the instructions in the circular) | J2: P
B3: Statement of Computation of Income Tax -Tax Year 2026-27-FINAL | J3: S
B4: Employee Details
B5: NAME | F5: P F No.
B6: DESIGNATION | F6: UPEN
B7: SECTION | F7: PAN
B8: Income Details | F8: Mobile No
B9: No. | C9: Particulars | F9: Amount Rs. | G9: For Office use
B10: 1 | C10: Gross Salary (Including Employer Contribution to NPS for Employee Under NPS) | F10: ='Salary Details'!$C$20+'Salary Details'!$L$20 -> 0
B11: 2 | C11: Deductions towards rent paid [Provide Decleration with Names & PAN of Homeowner]
B12: 3 | C12: Balance ((1)-(2)) | F12: =F10-F11 -> 0
B13: 4 | C13: Less : Standard Deduction | F13: -50000
B14: 5 | C14: Profession Tax paid | F14: 2500
B15: 6 | C15: Net Salary Income ((3)+(4)-(5)) | F15: =IF((F12+F13-F14)<0,0,F12+F13-F14) -> 0
B16: 7 | C16: 1.Income from House property (interest on HBA is negative income). [Provide Names & PAN of Institutions in page No.2, Max Rs.30,000 before 1.4.1999 or 2 Lakh. Sec 22(1)]
C17: 2.Other Sources Income (Interest , Family Pension etc)
C18: 3. Interest from Provident Fund for Contributions Exceeding Rs.500000
B19: 8 | C19: Gross Total Income | F19: =+IF(SUM(F15:F18)<0,0,SUM(F15:F18)) -> 0
B20: Deductions Under Chapter VIII : A-Deductions under Section 123/124
B21: 9 | C21: 1.Provident Fund | F21: ='Salary Details'!$D$20 -> 0
C22: 2.LIC | F22: ='Salary Details'!$E$20 -> 0
C23: 3.GIS | F23: ='Salary Details'!$F$20 -> 0
C24: 4.SWF | F24: ='Salary Details'!$G$20 -> 0
C25: 5.FBS | F25: ='Salary Details'!$H$20 -> 0
C26: 6.SLI | F26: ='Salary Details'!$I$20 -> 0
C27: 7.HBA Principal
C28: 8.Tuition Fee
C29: 9.NSC/ULIP/PLI /etc
C30: 10.Others -Specify (GPAIS) | F30: 1180
C31: 11.Contribution to Pension Fund(123)
C32: 12.Contribution to National Pension Scheme-NPS (124) | F32: ='Salary Details'!$K$20 -> 0
C33: =SUM(F21:F32) -> 1180 | D33: Admissible Amount u/s 123 | F33: =IF(SUM(F21:F32)>=150000,150000,SUM(F21:F32)) -> 1180
B34: B-More deductions under the Provisions of Chapter VIII
B35: 10 | C35: (a) 124 :- Contribution to N P S (Max Rs.50,000) ( Over and Above 123 Limit of Rs.1,50,000 for Employees under NPS ) | F35: =+MIN(F32,C33-F33,50000) -> 0
C36: (b) 124 :- Contribution to National Pension Scheme-NPS -Employer Contribution [Limited to 10% of Basic + DA] | F36: =+'Salary Details'!L20 -> 0
C37: (c) 126 :- Health Checkup (Max 5000) + Health Insurance (Individual Max 25000 + Parents 25000 / Senior Parents 50000) | E37: I
C38: (c) 126 :- MEDISEP Premium | D38: =+'Salary Details'!J20 -> 0 | F38: =IF(E37="I",MIN(F37+D38,25000),IF(E37="P",MIN(F37+D38,50000),IF(E37="S",MIN(F37+D38,75000),MIN(F37+D38,25000)))) -> 0
C39: (d) 127:- Expense on treatment of mentally or physically handicapped dependents (Max. Rs.75,000/1,25,000 for severe disability)
C40: (e) 128 :- Expenditure on medical treatment of the employee for specified diseases. Actual expenditure or Rs.40000/60000/80000 whicever is less is exempted depending on age
...

Sheet Salary Details
B1: Income & Savings Details
B2: Month | C2: Gross Salary | D2: PFS | E2: LIC | F2: GIS | G2: SWF | H2: FBS | I2: SLI | J2: MEDI SEP | K2: NPS own contribution | L2: NPS Employer contribution | M2: HBA | N2: TDS
B3: 46082 | C3: 0 | E3: 0 | F3: 0 | N3: 0
B4: 46113 | C4: =C3 -> 0 | D4: =D3 -> 0 | E4: =E3 -> 0 | F4: =F3 -> 0 | G4: =G3 -> 0 | H4: =H3 -> 0 | I4: =I3 -> 0 | J4: =J3 -> 0 | ... N4: =N3 -> 0
B5: 46143 | C5: =C4 -> 0 | D5: =D4 -> 0 | E5: =E4 -> 0 | F5: =F4 -> 0 | G5: =G4 -> 0 | H5: =H4 -> 0 | I5: =I4 -> 0 | J5: =J4 -> 0 | ... N5: =N4 -> 0
B6: 46174 | C6: =C5 -> 0 | D6: =D5 -> 0 | E6: =E5 -> 0 | F6: =F5 -> 0 | G6: =G5 -> 0 | H6: =H5 -> 0 | I6: =I5 -> 0 | J6: =J5 -> 0 | ... N6: =N5 -> 0
B7: 46204 | C7: =C6 -> 0 | D7: =D6 -> 0 | E7: =E6 -> 0 | F7: =F6 -> 0 | G7: =G6 -> 0 | H7: =H6 -> 0 | I7: =I6 -> 0 | J7: =J6 -> 0 | ... N7: =N6 -> 0
B8: 46235 | C8: =C7 -> 0 | D8: =D7 -> 0 | E8: =E7 -> 0 | F8: =F7 -> 0 | G8: =G7 -> 0 | H8: =H7 -> 0 | I8: =I7 -> 0 | J8: =J7 -> 0 | ... N8: =N7 -> 0
B9: 46266 | C9: =C8 -> 0 | D9: =D8 -> 0 | E9: =E8 -> 0 | F9: =F8 -> 0 | G9: =G8 -> 0 | H9: =H8 -> 0 | I9: =I8 -> 0 | J9: =J8 -> 0 | ... N9: =N8 -> 0
B10: 46296 | C10: =C9 -> 0 | D10: =D9 -> 0 | E10: =E9 -> 0 | F10: =F9 -> 0 | G10: =G9 -> 0 | H10: =H9 -> 0 | I10: =I9 -> 0 | J10: =J9 -> 0 | ... N10: =N9 -> 0
B11: 46327 | C11: =C10 -> 0 | D11: =D10 -> 0 | E11: =E10 -> 0 | F11: =F10 -> 0 | G11: =G10 -> 0 | H11: =H10 -> 0 | I11: =I10 -> 0 | J11: =J10 -> 0 | ... M11: =M10 -> 0 | N11: For Office Use Only
B12: 46357 | C12: =C11 -> 0 | D12: =D11 -> 0 | E12: =E11 -> 0 | F12: =F11 -> 0 | G12: =G11 -> 0 | H12: =H11 -> 0 | I12: =I11 -> 0 | J12: =J11 -> 0 | ... M12: =M11 -> 0
B13: 46388 | C13: =C12 -> 0 | D13: =D12 -> 0 | E13: =E12 -> 0 | F13: =F12 -> 0 | G13: =G12 -> 0 | H13: =H12 -> 0 | I13: =I12 -> 0 | J13: =J12 -> 0 | ... M13: =M12 -> 0
B14: 46419 | C14: =C13 -> 0 | D14: =D13 -> 0 | E14: =E13 -> 0 | F14: =F13 -> 0 | G14: =G13 -> 0 | H14: =H13 -> 0 | I14: =I13 -> 0 | J14: =J13 -> 0 | ... M14: =M13 -> 0
B15: D A Arrear-1
B16: D A Arrear-2
B17: PR Arrear /Other Arrears
B18: ELS
B19: Fest. Allow. / Bonus
B20: Total | C20: =SUM(C3:C19) -> 0 | D20: =SUM(D3:D19) -> 0 | E20: =SUM(E3:E19) -> 0 | F20: =SUM(F3:F19) -> 0 | G20: =SUM(G3:G19) -> 0 | H20: =SUM(H3:H19) -> 0 | I20: =SUM(I3:I19) -> 0 | J20: =SUM(J3:J14) -> 0 | K20: =SUM(K3:K19) -> 0 | L20: =SUM(L3:L19) -> 0 | M20: =SUM(M3:M19) -> 0 | N20: =SUM(N3:N10)+SUM(N15:N19) -> 0
B23: Details of Institutions from which HBA is availed
B24: Sl.No | C24: Name of Institution | H24: PAN
B25: 1
B26: 2
B28: Declaration
B29: I _________________hereby declare that what is stated above is true to the best of my information and belief.
B30: Date : | J30: Signature
B32: Income Tax Rates for FY 2026-27 - Tax Regime - FA 2025-26 (Old Scheme)
B33: Taxable Income | E33: Tax Rate | I33: Tax Details | N33: Cess
B34: Upto Rs.2,50,000 | E34: Nil | I34: 0 | N34: 4 % of I T
B35: Rs.2,50,001-Rs.5,00,000 | C35: 0.05 | D35: 5 %(T.I.-250000) : ( Less Rs.12500 in case T I is less than Rs.500,000) | E35: 0.05 | I35: 5 % (T.I.-2,50,000) : ( Less Rs.12,500 in case T I is less than Rs.5,00,000)
B36: Rs.5,00,001-10,00,000 | C36: 0.2 | D36: Rs.12,500+20 % of (T I -5,00,000) | E36: 0.2 | I36: Rs.12,500 + 20 % of (T.I -5,00,000)
B37: Above Rs.10,00,001 | C37: 0.3 | D37: Rs.1,12,500 +30 % ( T I-1000000) | E37: 0.3 | I37: Rs.1,12,500 + 30 % ( T.I-10,00,000)
